BEGIN:VCALENDAR
VERSION:2.0
PRODID:-//Alexandre Balmer - ECPv6.15.20//NONSGML v1.0//EN
CALSCALE:GREGORIAN
METHOD:PUBLISH
X-ORIGINAL-URL:https://www.alexandrebalmer.ch
X-WR-CALDESC:Évènements pour Alexandre Balmer
REFRESH-INTERVAL;VALUE=DURATION:PT1H
X-Robots-Tag:noindex
X-PUBLISHED-TTL:PT1H
BEGIN:VTIMEZONE
TZID:Europe/Zurich
BEGIN:DAYLIGHT
TZOFFSETFROM:+0100
TZOFFSETTO:+0200
TZNAME:CEST
DTSTART:20250330T010000
END:DAYLIGHT
BEGIN:STANDARD
TZOFFSETFROM:+0200
TZOFFSETTO:+0100
TZNAME:CET
DTSTART:20251026T010000
END:STANDARD
BEGIN:DAYLIGHT
TZOFFSETFROM:+0100
TZOFFSETTO:+0200
TZNAME:CEST
DTSTART:20260329T010000
END:DAYLIGHT
BEGIN:STANDARD
TZOFFSETFROM:+0200
TZOFFSETTO:+0100
TZNAME:CET
DTSTART:20261025T010000
END:STANDARD
BEGIN:DAYLIGHT
TZOFFSETFROM:+0100
TZOFFSETTO:+0200
TZNAME:CEST
DTSTART:20270328T010000
END:DAYLIGHT
BEGIN:STANDARD
TZOFFSETFROM:+0200
TZOFFSETTO:+0100
TZNAME:CET
DTSTART:20271031T010000
END:STANDARD
END:VTIMEZONE
BEGIN:VEVENT
DTSTART;TZID=Europe/Zurich:20260517T080000
DTEND;TZID=Europe/Zurich:20260517T113000
DTSTAMP:20260420T050448
CREATED:20260418T133054Z
LAST-MODIFIED:20260418T133054Z
UID:31405-1779004800-1779017400@www.alexandrebalmer.ch
SUMMARY:UCI Jura bike Marathon VTT
DESCRIPTION:Si mes côtes ne me font plus souffrir\, je prendrai le départ du Jura Bike Marathon.Une superbe course de VTT de 75km tout près de chez moi\, idéale pour se faire plaisir et que j’ai remportée il y a 2 ans 
URL:https://www.alexandrebalmer.ch/course/uci-jura-bike-marathon-vtt/
LOCATION:vallorbe\, Switzerland
CATEGORIES:VTT - Marathon
END:VEVENT
END:VCALENDAR