BEGIN:VCALENDAR
VERSION:2.0
PRODID:-//Alexandre Balmer - ECPv6.15.20//NONSGML v1.0//EN
CALSCALE:GREGORIAN
METHOD:PUBLISH
X-WR-CALNAME:Alexandre Balmer
X-ORIGINAL-URL:https://www.alexandrebalmer.ch
X-WR-CALDESC:Évènements pour Alexandre Balmer
REFRESH-INTERVAL;VALUE=DURATION:PT1H
X-Robots-Tag:noindex
X-PUBLISHED-TTL:PT1H
BEGIN:VTIMEZONE
TZID:Europe/Zurich
BEGIN:DAYLIGHT
TZOFFSETFROM:+0100
TZOFFSETTO:+0200
TZNAME:CEST
DTSTART:20250330T010000
END:DAYLIGHT
BEGIN:STANDARD
TZOFFSETFROM:+0200
TZOFFSETTO:+0100
TZNAME:CET
DTSTART:20251026T010000
END:STANDARD
BEGIN:DAYLIGHT
TZOFFSETFROM:+0100
TZOFFSETTO:+0200
TZNAME:CEST
DTSTART:20260329T010000
END:DAYLIGHT
BEGIN:STANDARD
TZOFFSETFROM:+0200
TZOFFSETTO:+0100
TZNAME:CET
DTSTART:20261025T010000
END:STANDARD
BEGIN:DAYLIGHT
TZOFFSETFROM:+0100
TZOFFSETTO:+0200
TZNAME:CEST
DTSTART:20270328T010000
END:DAYLIGHT
BEGIN:STANDARD
TZOFFSETFROM:+0200
TZOFFSETTO:+0100
TZNAME:CET
DTSTART:20271031T010000
END:STANDARD
END:VTIMEZONE
BEGIN:VEVENT
DTSTART;VALUE=DATE:20260420
DTEND;VALUE=DATE:20260425
DTSTAMP:20260420T002801
CREATED:20260418T130132Z
LAST-MODIFIED:20260418T130132Z
UID:31396-1776643200-1777075199@www.alexandrebalmer.ch
SUMMARY:1.pro Tour des Alpes
DESCRIPTION:Je prendrai le départ de cette course sans aucune pression\, ni de ma part ni de celle de l’équipe. L’objectif est avant tout de retrouver ma meilleure forme physique le plus rapidement possible après ma grosse chute. J’aborderai ce tour avec des jambes un peu lourdes\, conséquence de la course de la veille\, Torino–Biella\, et d’un transfert qui ne nous a fait arriver qu’à minuit. \nCette course est réputée pour sa grande difficulté\, avec de longs cols à gravir chaque jour. \n1° étape\, 20.04: Innsbruck->Innsbruck // 144km\,1700m D+ \n2° étape\, 21.04: Telfs-> Martell\, Val Martello // 148km\, 2600m D+ \n3° étape\, 22.04: Latsch\, Laces -> Arco // 175km\, 3600m D+ \n4° étape\, 23.04: Arco-> Trento // 168km\, 3900m D+ \n5° étape\, 24.04: Trento-> Bozen\, Bolzano // 129km\, 2850m D+ \n 
URL:https://www.alexandrebalmer.ch/course/1-pro-tour-des-alpes/
CATEGORIES:2.Pro
END:VEVENT
END:VCALENDAR