BEGIN:VCALENDAR
VERSION:2.0
PRODID:-//Alexandre Balmer - ECPv6.15.20//NONSGML v1.0//EN
CALSCALE:GREGORIAN
METHOD:PUBLISH
X-WR-CALNAME:Alexandre Balmer
X-ORIGINAL-URL:https://www.alexandrebalmer.ch
X-WR-CALDESC:Évènements pour Alexandre Balmer
REFRESH-INTERVAL;VALUE=DURATION:PT1H
X-Robots-Tag:noindex
X-PUBLISHED-TTL:PT1H
BEGIN:VTIMEZONE
TZID:Europe/Zurich
BEGIN:DAYLIGHT
TZOFFSETFROM:+0100
TZOFFSETTO:+0200
TZNAME:CEST
DTSTART:20210328T010000
END:DAYLIGHT
BEGIN:STANDARD
TZOFFSETFROM:+0200
TZOFFSETTO:+0100
TZNAME:CET
DTSTART:20211031T010000
END:STANDARD
BEGIN:DAYLIGHT
TZOFFSETFROM:+0100
TZOFFSETTO:+0200
TZNAME:CEST
DTSTART:20220327T010000
END:DAYLIGHT
BEGIN:STANDARD
TZOFFSETFROM:+0200
TZOFFSETTO:+0100
TZNAME:CET
DTSTART:20221030T010000
END:STANDARD
BEGIN:DAYLIGHT
TZOFFSETFROM:+0100
TZOFFSETTO:+0200
TZNAME:CEST
DTSTART:20230326T010000
END:DAYLIGHT
BEGIN:STANDARD
TZOFFSETFROM:+0200
TZOFFSETTO:+0100
TZNAME:CET
DTSTART:20231029T010000
END:STANDARD
END:VTIMEZONE
BEGIN:VEVENT
DTSTART;TZID=Europe/Zurich:20220615T000000
DTEND;TZID=Europe/Zurich:20220619T235959
DTSTAMP:20260424T074733
CREATED:20220524T091337Z
LAST-MODIFIED:20220524T094938Z
UID:29909-1655251200-1655683199@www.alexandrebalmer.ch
SUMMARY:Tour of Slovenia  (Slovénie)
DESCRIPTION:
URL:https://www.alexandrebalmer.ch/course/tour-of-slovenia/
LOCATION:Slovénie\, Slovénie
CATEGORIES:Vélo de route
END:VEVENT
END:VCALENDAR