BEGIN:VCALENDAR
VERSION:2.0
PRODID:-//Alexandre Balmer - ECPv6.15.20//NONSGML v1.0//EN
CALSCALE:GREGORIAN
METHOD:PUBLISH
X-ORIGINAL-URL:https://www.alexandrebalmer.ch
X-WR-CALDESC:Évènements pour Alexandre Balmer
REFRESH-INTERVAL;VALUE=DURATION:PT1H
X-Robots-Tag:noindex
X-PUBLISHED-TTL:PT1H
BEGIN:VTIMEZONE
TZID:Europe/Zurich
BEGIN:DAYLIGHT
TZOFFSETFROM:+0100
TZOFFSETTO:+0200
TZNAME:CEST
DTSTART:20200329T010000
END:DAYLIGHT
BEGIN:STANDARD
TZOFFSETFROM:+0200
TZOFFSETTO:+0100
TZNAME:CET
DTSTART:20201025T010000
END:STANDARD
BEGIN:DAYLIGHT
TZOFFSETFROM:+0100
TZOFFSETTO:+0200
TZNAME:CEST
DTSTART:20210328T010000
END:DAYLIGHT
BEGIN:STANDARD
TZOFFSETFROM:+0200
TZOFFSETTO:+0100
TZNAME:CET
DTSTART:20211031T010000
END:STANDARD
BEGIN:DAYLIGHT
TZOFFSETFROM:+0100
TZOFFSETTO:+0200
TZNAME:CEST
DTSTART:20220327T010000
END:DAYLIGHT
BEGIN:STANDARD
TZOFFSETFROM:+0200
TZOFFSETTO:+0100
TZNAME:CET
DTSTART:20221030T010000
END:STANDARD
END:VTIMEZONE
BEGIN:VEVENT
DTSTART;TZID=Europe/Zurich:20210417T000000
DTEND;TZID=Europe/Zurich:20210417T235959
DTSTAMP:20260426T014630
CREATED:20210409T101059Z
LAST-MODIFIED:20220503T151151Z
UID:29728-1618617600-1618703999@www.alexandrebalmer.ch
SUMMARY:U23 Liège – Bastogne – Liège
DESCRIPTION:
URL:https://www.alexandrebalmer.ch/course/u23-liege-bastogne-liege/
LOCATION:Liège\, Belgique
CATEGORIES:Vélo de route
END:VEVENT
END:VCALENDAR