BEGIN:VCALENDAR
VERSION:2.0
PRODID:-//Alexandre Balmer - ECPv6.15.20//NONSGML v1.0//EN
CALSCALE:GREGORIAN
METHOD:PUBLISH
X-WR-CALNAME:Alexandre Balmer
X-ORIGINAL-URL:https://www.alexandrebalmer.ch
X-WR-CALDESC:Évènements pour Alexandre Balmer
REFRESH-INTERVAL;VALUE=DURATION:PT1H
X-Robots-Tag:noindex
X-PUBLISHED-TTL:PT1H
BEGIN:VTIMEZONE
TZID:Europe/Zurich
BEGIN:DAYLIGHT
TZOFFSETFROM:+0100
TZOFFSETTO:+0200
TZNAME:CEST
DTSTART:20250330T010000
END:DAYLIGHT
BEGIN:STANDARD
TZOFFSETFROM:+0200
TZOFFSETTO:+0100
TZNAME:CET
DTSTART:20251026T010000
END:STANDARD
BEGIN:DAYLIGHT
TZOFFSETFROM:+0100
TZOFFSETTO:+0200
TZNAME:CEST
DTSTART:20260329T010000
END:DAYLIGHT
BEGIN:STANDARD
TZOFFSETFROM:+0200
TZOFFSETTO:+0100
TZNAME:CET
DTSTART:20261025T010000
END:STANDARD
BEGIN:DAYLIGHT
TZOFFSETFROM:+0100
TZOFFSETTO:+0200
TZNAME:CEST
DTSTART:20270328T010000
END:DAYLIGHT
BEGIN:STANDARD
TZOFFSETFROM:+0200
TZOFFSETTO:+0100
TZNAME:CET
DTSTART:20271031T010000
END:STANDARD
END:VTIMEZONE
BEGIN:VEVENT
DTSTART;TZID=Europe/Zurich:20260426T110000
DTEND;TZID=Europe/Zurich:20260426T163000
DTSTAMP:20260426T011807
CREATED:20260418T130816Z
LAST-MODIFIED:20260425T220441Z
UID:31398-1777201200-1777221000@www.alexandrebalmer.ch
SUMMARY:Giro dell'Appennino (1.1)
DESCRIPTION:Le dernier des sept jours de course en huit jours : une épreuve d’un jour au final très exigeant\, en raison de l’enchaînement de cols. \n			\n				\n				\n				\n				\n				LiveStats PCS \n			\n			\n				\n				\n				\n				\n				\n				\n				\n				\n				\n				 \n				Mon dossard\n			\n				\n				\n				\n				\n				\n					Départ dans :\n					\n						 \n						Jour(s) \n					\n						: \n					\n						 \n						Heure(s) \n					\n						: \n					\n						 \n						Minute(s) \n					\n						: \n					\n						 \n						Seconde(s)
URL:https://www.alexandrebalmer.ch/course/1-1-giro-dellappennino/
LOCATION:Gênes\, Genoa\, Regione Liguria\, 16100\, Italy
CATEGORIES:1.1,UCI Europe Tour (ME)
END:VEVENT
END:VCALENDAR